BEGIN:VCALENDAR
VERSION:2.0
PRODID:-//DanceSyndrome - ECPv6.0.3.1//NONSGML v1.0//EN
CALSCALE:GREGORIAN
METHOD:PUBLISH
X-WR-CALNAME:DanceSyndrome
X-ORIGINAL-URL:https://dancesyndrome.co.uk
X-WR-CALDESC:Events for DanceSyndrome
REFRESH-INTERVAL;VALUE=DURATION:PT1H
X-Robots-Tag:noindex
X-PUBLISHED-TTL:PT1H
BEGIN:VTIMEZONE
TZID:Europe/London
BEGIN:DAYLIGHT
TZOFFSETFROM:+0000
TZOFFSETTO:+0100
TZNAME:BST
DTSTART:20240331T010000
END:DAYLIGHT
BEGIN:STANDARD
TZOFFSETFROM:+0100
TZOFFSETTO:+0000
TZNAME:GMT
DTSTART:20241027T010000
END:STANDARD
TZID:UTC
BEGIN:STANDARD
TZOFFSETFROM:+0000
TZOFFSETTO:+0000
TZNAME:UTC
DTSTART:20240101T000000
END:STANDARD
END:VTIMEZONE
BEGIN:VEVENT
DTSTART;TZID=Europe/London:20240317T150000
DTEND;TZID=Europe/London:20240317T173000
DTSTAMP:20260420T171323
CREATED:20240220T152630Z
LAST-MODIFIED:20240220T152630Z
UID:22602-1710687600-1710696600@dancesyndrome.co.uk
SUMMARY:EXPRESS '24 - Community Showcase
DESCRIPTION:EXPRESS ‘24\, is a two act celebration of inclusive dance presented by award winning charity DanceSyndrome. The first act will showcase each of their community groups from across Lancashire\, and the premiere of “A Sunken Forest” in collaboration with musician Eira Lynn Jones. \nThis will be followed ‘SENse’\, an Arts Council England funded contemporary dance piece: In a Big Brother world where it’s easy to feel as though we are constantly being watched. Are we ever truly seen? \nSENse\, performed by our company of dancers with and without disabilities\,explores humanity’s need to be seen\, felt and heard. \nTickets are available directly from Blackburn Empire Theatre.
URL:https://dancesyndrome.co.uk/session/express-24-community-showcase/
LOCATION:Blackburn Empire Theatre\, Aquaduct Road\, Blackburn\, BB2 4HT\, United Kingdom
ATTACH;FMTTYPE=image/jpeg:https://dancesyndrome.co.uk/wp-content/uploads/2024/02/Express-2023-1024x512-1.jpg
END:VEVENT
BEGIN:VEVENT
DTSTART;TZID=Europe/London:20240319T103000
DTEND;TZID=Europe/London:20240319T113000
DTSTAMP:20260420T171323
CREATED:20210701T095441Z
LAST-MODIFIED:20240319T104047Z
UID:18624-1710844200-1710847800@dancesyndrome.co.uk
SUMMARY:Everybody Dance - Accrington (Tuesday)
DESCRIPTION:Everybody Dance in Accrington!\nCome and join us at in Accrington for Everybody Dance sessions and dance your way to feeling better! \nSee booking form below to book and pay for your place(s). If this form doesn’t load\, go to:
URL:https://dancesyndrome.co.uk/session/everybody-dance-accrington/2024-03-19/
LOCATION:Hyndburn Voluntary & Community  Resource Centre\, St James Old School\, Cannon Street\,\, Accrington\, BB5 2ER\, United Kingdom
CATEGORIES:Dancing
ATTACH;FMTTYPE=image/jpeg:https://dancesyndrome.co.uk/wp-content/uploads/2023/04/accrington-header.jpg
END:VEVENT
BEGIN:VEVENT
DTSTART;TZID=Europe/London:20240319T130000
DTEND;TZID=Europe/London:20240319T140000
DTSTAMP:20260420T171323
CREATED:20220202T150611Z
LAST-MODIFIED:20240319T105940Z
UID:19681-1710853200-1710856800@dancesyndrome.co.uk
SUMMARY:Everybody Dance - Chorley (Tuesday)
DESCRIPTION:Everybody Dance in Chorley!\nCome and join us at in Chorley for Everybody Dance sessions and dance your way to feeling better! \nSee booking form below to book and pay for your place(s). If this form doesn’t load\, go to: https://bit.ly/EverybodyDanceChorley
URL:https://dancesyndrome.co.uk/session/everybodydance-chorley/2024-03-19/
LOCATION:St George’s Church Hall\, Halliwell Street\, Chorley\, PR7 2AL\, United Kingdom
CATEGORIES:Dancing
ATTACH;FMTTYPE=image/jpeg:https://dancesyndrome.co.uk/wp-content/uploads/2022/02/Jen-and-Donna-by-Julie-Thompson-scaled.jpg
END:VEVENT
BEGIN:VEVENT
DTSTART;TZID=Europe/London:20240320T100000
DTEND;TZID=Europe/London:20240320T110000
DTSTAMP:20260420T171323
CREATED:20181106T115447Z
LAST-MODIFIED:20240319T104508Z
UID:21455-1710928800-1710932400@dancesyndrome.co.uk
SUMMARY:Everybody Dance - Preston (Wednesday)
DESCRIPTION:Everybody Dance in Preston!\nCome and join us at Plungington Community Centre in Preston for Everybody Dance sessions and dance your way to feeling better! \nSee booking form below to book your place(s). If this form doesn’t load\, go to: http://bit.ly/EverybodyDancePreston
URL:https://dancesyndrome.co.uk/session/everybody-dance-preston-every-wednesday-2023-04-19/2024-03-20/
LOCATION:Plungington Community Centre\, Brook St\, Preston\, PR1 7NB
CATEGORIES:Dancing
ATTACH;FMTTYPE=image/jpeg:https://dancesyndrome.co.uk/wp-content/uploads/2018/11/Sophie-Anna-Jodie-landscape-scaled.jpg
END:VEVENT
BEGIN:VEVENT
DTSTART;TZID=UTC:20240320T113000
DTEND;TZID=UTC:20240320T121500
DTSTAMP:20260420T171323
CREATED:20220331T090652Z
LAST-MODIFIED:20240319T105832Z
UID:13622-1710934200-1710936900@dancesyndrome.co.uk
SUMMARY:Ballet - Preston (Wednesday)
DESCRIPTION:Ballet\nDanceSyndrome offers a programme of inclusive technique classes exploring different styles of dance. These sessions are perfect for both beginners and those with experience. Each class will begin with technical exercises and then explore set choreography\, which will be developed over a number of weeks. \nSee booking form below to book your place(s). If the form doesn’t load\, go to: http://bit.ly/DSBallet
URL:https://dancesyndrome.co.uk/session/inclusive-ballet-2/2024-03-20/
LOCATION:Plungington Community Centre\, Brook St\, Preston\, PR1 7NB
CATEGORIES:Dancing
ATTACH;FMTTYPE=image/jpeg:https://dancesyndrome.co.uk/wp-content/uploads/2018/11/ballet-scaled.jpg
END:VEVENT
BEGIN:VEVENT
DTSTART;TZID=Europe/London:20240320T131500
DTEND;TZID=Europe/London:20240320T140000
DTSTAMP:20260420T171323
CREATED:20220331T090637Z
LAST-MODIFIED:20240319T105739Z
UID:18443-1710940500-1710943200@dancesyndrome.co.uk
SUMMARY:Contemporary Dance (Preston)
DESCRIPTION:Contemporary Dance\nJoin us for inclusive Contemporary Dance technique classes. These sessions are perfect for both beginners and those with experience. Each class will begin with technical exercises and then explore set choreography\, which will be developed over a number of weeks. \nSee booking form below to book your place(s). If the form doesn’t load\, go to: https://bit.ly/DS-Contemporary \n 
URL:https://dancesyndrome.co.uk/session/contemporary-dance/2024-03-20/
LOCATION:Plungington Community Centre\, Brook St\, Preston\, PR1 7NB
CATEGORIES:Dancing
ATTACH;FMTTYPE=image/jpeg:https://dancesyndrome.co.uk/wp-content/uploads/2021/04/Helen-and-Anna.jpg
END:VEVENT
BEGIN:VEVENT
DTSTART;TZID=UTC:20240321T110000
DTEND;TZID=UTC:20240321T120000
DTSTAMP:20260420T171323
CREATED:20230309T145528Z
LAST-MODIFIED:20240320T120023Z
UID:21404-1711018800-1711022400@dancesyndrome.co.uk
SUMMARY:Street Dance on Zoom
DESCRIPTION:Street Dance on Zoom\nJoin us for Zoom Street Dance! \nThe booking form for Zoom sessions should load below\, but if it doesn’t please visit: https://bit.ly/ZoomStreetDance
URL:https://dancesyndrome.co.uk/session/zoom-street-dance/2024-03-21/
LOCATION:Online via Zoom
CATEGORIES:Dancing,Online dance sessions
ATTACH;FMTTYPE=image/jpeg:https://dancesyndrome.co.uk/wp-content/uploads/2022/02/Jen-and-Donna-by-Julie-Thompson-scaled.jpg
END:VEVENT
BEGIN:VEVENT
DTSTART;TZID=Europe/London:20240325T180000
DTEND;TZID=Europe/London:20240325T190000
DTSTAMP:20260420T171323
CREATED:20240319T112202Z
LAST-MODIFIED:20240319T112202Z
UID:22869-1711389600-1711393200@dancesyndrome.co.uk
SUMMARY:Zoom - Monday Night Everybody Dance
DESCRIPTION:Join Dance Leader David and Dance Artist Millie for our new Everybody Dance sessions on Monday nights and dance your way to feeling better! \nIf the booking form doesn’t load\, please click on this link: http://bit.ly/Everybody-Dance-Mondays
URL:https://dancesyndrome.co.uk/session/zoom-monday-night-everybody-dance/
LOCATION:Lancashire
ORGANIZER;CN="DanceSyndrome":MAILTO:info@dancesyndome.co.uk
END:VEVENT
END:VCALENDAR