BEGIN:VCALENDAR
VERSION:2.0
PRODID:-//DanceSyndrome - ECPv6.0.3.1//NONSGML v1.0//EN
CALSCALE:GREGORIAN
METHOD:PUBLISH
X-ORIGINAL-URL:https://dancesyndrome.co.uk
X-WR-CALDESC:Events for DanceSyndrome
REFRESH-INTERVAL;VALUE=DURATION:PT1H
X-Robots-Tag:noindex
X-PUBLISHED-TTL:PT1H
BEGIN:VTIMEZONE
TZID:Europe/London
BEGIN:DAYLIGHT
TZOFFSETFROM:+0000
TZOFFSETTO:+0100
TZNAME:BST
DTSTART:20240331T010000
END:DAYLIGHT
BEGIN:STANDARD
TZOFFSETFROM:+0100
TZOFFSETTO:+0000
TZNAME:GMT
DTSTART:20241027T010000
END:STANDARD
END:VTIMEZONE
BEGIN:VEVENT
DTSTART;TZID=Europe/London:20240408T180000
DTEND;TZID=Europe/London:20240408T190000
DTSTAMP:20260420T202202
CREATED:20230309T144108Z
LAST-MODIFIED:20240319T111436Z
UID:21359-1712599200-1712602800@dancesyndrome.co.uk
SUMMARY:Everybody Dance - Zoom (Monday Night)
DESCRIPTION:Join Dance Leader David and Dance Artist Millie for our new Everybody Dance sessions on Monday nights and dance your way to feeling better! \nIf the booking form doesn’t load\, please click on this link: http://bit.ly/Everybody-Dance-Mondays
URL:https://dancesyndrome.co.uk/session/zoom-monday-night/2024-04-08/
LOCATION:Online via Zoom
CATEGORIES:Online dance sessions
ATTACH;FMTTYPE=image/jpeg:https://dancesyndrome.co.uk/wp-content/uploads/2021/06/DanceSyndromeGroup-scaled.jpg
END:VEVENT
BEGIN:VEVENT
DTSTART;TZID=Europe/London:20240411T180000
DTEND;TZID=Europe/London:20240411T190000
DTSTAMP:20260420T202202
CREATED:20240319T114911Z
LAST-MODIFIED:20240320T120733Z
UID:22913-1712858400-1712862000@dancesyndrome.co.uk
SUMMARY:Musical Jazz on Zoom
DESCRIPTION:Musical Jazz Dance on Zoom\nJoin our Jazz ladies for a Musical Jazz dance session\, where you will learn and re-create dances from West-End musicals or famous musical movies. \nIf the booking form doesn’t load properly\, please go to the Musical Jazz Dance booking form: http://bit.ly/DSZoomJazzDance
URL:https://dancesyndrome.co.uk/session/musical-jazz-on-zoom/2024-04-11/
LOCATION:Online via Zoom
CATEGORIES:Dancing,Online dance sessions
END:VEVENT
BEGIN:VEVENT
DTSTART;TZID=Europe/London:20240412T180000
DTEND;TZID=Europe/London:20240412T190000
DTSTAMP:20260420T202202
CREATED:20240319T113456Z
LAST-MODIFIED:20240320T120941Z
UID:22878-1712944800-1712948400@dancesyndrome.co.uk
SUMMARY:Friday Night Dance Party - Zoom
DESCRIPTION:Kick start your weekend with a DanceSyndrome Friday Night Dance Party!!\n.. a fun filled inclusive dance workshop in which each week we’ll explore a different decade of music to inspire us. \nIf the booking form (below) doesn’t load\, please click on this link: https://bit.ly/Fri-Night-Dance
URL:https://dancesyndrome.co.uk/session/friday-night-dance-party-zoom-2/2024-04-12/
LOCATION:Online via Zoom
CATEGORIES:Online dance sessions
END:VEVENT
BEGIN:VEVENT
DTSTART;TZID=Europe/London:20240418T110000
DTEND;TZID=Europe/London:20240418T120000
DTSTAMP:20260420T202202
CREATED:20240319T114108Z
LAST-MODIFIED:20240320T120504Z
UID:22891-1713438000-1713441600@dancesyndrome.co.uk
SUMMARY:Street Dance on Zoom
DESCRIPTION:Street Dance on Zoom\nJoin us for Zoom Street Dance! \nThe booking form for Zoom sessions should load below\, but if it doesn’t please visit: https://bit.ly/ZoomStreetDance
URL:https://dancesyndrome.co.uk/session/friday-night-dance-party-zoom-2-2/2024-04-18/
LOCATION:Online via Zoom
CATEGORIES:Dancing,Online dance sessions
END:VEVENT
BEGIN:VEVENT
DTSTART;TZID=Europe/London:20240511T103000
DTEND;TZID=Europe/London:20240511T113000
DTSTAMP:20260420T202202
CREATED:20210701T095441Z
LAST-MODIFIED:20240604T095743Z
UID:19650-1715423400-1715427000@dancesyndrome.co.uk
SUMMARY:Everybody Dance Clitheroe
DESCRIPTION:Everybody Dance in Clitheroe!\nCome and join us at in Clitheroe for Everybody Dance sessions and dance your way to feeling better! \nSee booking form below to book and pay for your place(s). If this form doesn’t load\, go to: http://bit.ly/Everybody-Dance-Clitheroe
URL:https://dancesyndrome.co.uk/session/everybody-dance-clitheroe-2022/2024-05-11/
LOCATION:Trinity Methodist Church & Commuity Hub\, Wesleyan Row\, Parson Lane\, Clitheroe\, BB7 2JY
CATEGORIES:Dancing
ATTACH;FMTTYPE=image/jpeg:https://dancesyndrome.co.uk/wp-content/uploads/2021/07/Clitheroe-scaled.jpg
END:VEVENT
BEGIN:VEVENT
DTSTART;TZID=Europe/London:20240610T160000
DTEND;TZID=Europe/London:20240610T170000
DTSTAMP:20260420T202202
CREATED:20220413T082415Z
LAST-MODIFIED:20240424T140507Z
UID:20228-1718035200-1718038800@dancesyndrome.co.uk
SUMMARY:Everybody Dance Juniors
DESCRIPTION:Everybody Dance JuniorsPlaces are strictly limited for health and safety reasons\, so please book in advance to avoid disappointment (please note that we will not be accepting walk-ins!) \nDance Artist Chloe Fitzpatrick\, will co-deliver this session alongside Dance Leader Ellie Bamber \nSee booking form below to book and pay for your place(s). If this form doesn’t load\, go to: https://app.etapestry.com/onlineforms/DanceSyndrome/EverybodyDanceJuniors-1.html
URL:https://dancesyndrome.co.uk/session/everybody-dance-juniors/2024-06-10/
LOCATION:Tatton Community Centre\, Windermere Road\, off Eaves Lane\, Chorley\, PR6 0FJ\, United Kingdom
CATEGORIES:Children's Classes,Dancing
ATTACH;FMTTYPE=image/jpeg:https://dancesyndrome.co.uk/wp-content/uploads/2021/07/Clitheroe-scaled.jpg
END:VEVENT
BEGIN:VEVENT
DTSTART;TZID=Europe/London:20240626T103000
DTEND;TZID=Europe/London:20240626T160000
DTSTAMP:20260420T202202
CREATED:20240402T104926Z
LAST-MODIFIED:20240402T104926Z
UID:23007-1719397800-1719417600@dancesyndrome.co.uk
SUMMARY:Leadership in Action: Amplifying and advocating learning disabled dance leaders
DESCRIPTION:Leadership in Action: Amplifying and advocating learning disabled dance leaders\nLocation: Attenborough Arts Centre\, Leicester\nTimings: 10.30am – 4.00pm \nPeople Dancing and Corali Dance Company are delighted to present this one day in person event for learning disabled dance leaders and their supporters. The day\, a first of its kind\, supports the coming together of learning disabled dancers and leaders in one space. \nLed by supporting partners Anjali Dance Company\, DanceSyndrome\, Stopgap Dance Company and TIN Arts\, the day\, a first of its kind\, supports the coming together of learning disabled dancers and dance leaders in one space. \nMore information\, including Easy Read information and booking can be found on this link.
URL:https://dancesyndrome.co.uk/session/leadership-in-action-amplifying-and-advocating-learning-disabled-dance-leaders/
LOCATION:Attenborough Arts Centre\, Leicester\, University of Leicester\, Lancaster Rd\, Leicester\, LE1 7HA\, United Kingdom
ATTACH;FMTTYPE=image/jpeg:https://dancesyndrome.co.uk/wp-content/uploads/2024/04/Leadership-in-action-scaled.jpg
END:VEVENT
BEGIN:VEVENT
DTSTART;TZID=Europe/London:20240701T183000
DTEND;TZID=Europe/London:20240701T193000
DTSTAMP:20260420T202202
CREATED:20240424T121625Z
LAST-MODIFIED:20240424T121625Z
UID:23028-1719858600-1719862200@dancesyndrome.co.uk
SUMMARY:iCreate: A Choreographic Showcase
DESCRIPTION:
URL:https://dancesyndrome.co.uk/session/icreate-a-choreographic-showcase/
LOCATION:The Media Factory\, University of Central Lancashire\, Kirkham Street\, Preston\, Lancashire\, PR1 2XY
ATTACH;FMTTYPE=image/png:https://dancesyndrome.co.uk/wp-content/uploads/2024/04/iCreate.png
END:VEVENT
END:VCALENDAR