BEGIN:VCALENDAR
VERSION:2.0
PRODID:-//DanceSyndrome - ECPv6.0.3.1//NONSGML v1.0//EN
CALSCALE:GREGORIAN
METHOD:PUBLISH
X-WR-CALNAME:DanceSyndrome
X-ORIGINAL-URL:https://dancesyndrome.co.uk
X-WR-CALDESC:Events for DanceSyndrome
REFRESH-INTERVAL;VALUE=DURATION:PT1H
X-Robots-Tag:noindex
X-PUBLISHED-TTL:PT1H
BEGIN:VTIMEZONE
TZID:Europe/London
BEGIN:DAYLIGHT
TZOFFSETFROM:+0000
TZOFFSETTO:+0100
TZNAME:BST
DTSTART:20240331T010000
END:DAYLIGHT
BEGIN:STANDARD
TZOFFSETFROM:+0100
TZOFFSETTO:+0000
TZNAME:GMT
DTSTART:20241027T010000
END:STANDARD
END:VTIMEZONE
BEGIN:VEVENT
DTSTART;TZID=Europe/London:20240319T103000
DTEND;TZID=Europe/London:20240319T113000
DTSTAMP:20260420T183701
CREATED:20210701T095441Z
LAST-MODIFIED:20240319T104047Z
UID:18624-1710844200-1710847800@dancesyndrome.co.uk
SUMMARY:Everybody Dance - Accrington (Tuesday)
DESCRIPTION:Everybody Dance in Accrington!\nCome and join us at in Accrington for Everybody Dance sessions and dance your way to feeling better! \nSee booking form below to book and pay for your place(s). If this form doesn’t load\, go to:
URL:https://dancesyndrome.co.uk/session/everybody-dance-accrington/2024-03-19/
LOCATION:Hyndburn Voluntary & Community  Resource Centre\, St James Old School\, Cannon Street\,\, Accrington\, BB5 2ER\, United Kingdom
CATEGORIES:Dancing
ATTACH;FMTTYPE=image/jpeg:https://dancesyndrome.co.uk/wp-content/uploads/2023/04/accrington-header.jpg
END:VEVENT
BEGIN:VEVENT
DTSTART;TZID=Europe/London:20240319T130000
DTEND;TZID=Europe/London:20240319T140000
DTSTAMP:20260420T183701
CREATED:20220202T150611Z
LAST-MODIFIED:20240319T105940Z
UID:19681-1710853200-1710856800@dancesyndrome.co.uk
SUMMARY:Everybody Dance - Chorley (Tuesday)
DESCRIPTION:Everybody Dance in Chorley!\nCome and join us at in Chorley for Everybody Dance sessions and dance your way to feeling better! \nSee booking form below to book and pay for your place(s). If this form doesn’t load\, go to: https://bit.ly/EverybodyDanceChorley
URL:https://dancesyndrome.co.uk/session/everybodydance-chorley/2024-03-19/
LOCATION:St George’s Church Hall\, Halliwell Street\, Chorley\, PR7 2AL\, United Kingdom
CATEGORIES:Dancing
ATTACH;FMTTYPE=image/jpeg:https://dancesyndrome.co.uk/wp-content/uploads/2022/02/Jen-and-Donna-by-Julie-Thompson-scaled.jpg
END:VEVENT
END:VCALENDAR