BEGIN:VCALENDAR
VERSION:2.0
PRODID:-//DanceSyndrome - ECPv6.0.3.1//NONSGML v1.0//EN
CALSCALE:GREGORIAN
METHOD:PUBLISH
X-WR-CALNAME:DanceSyndrome
X-ORIGINAL-URL:https://dancesyndrome.co.uk
X-WR-CALDESC:Events for DanceSyndrome
REFRESH-INTERVAL;VALUE=DURATION:PT1H
X-Robots-Tag:noindex
X-PUBLISHED-TTL:PT1H
BEGIN:VTIMEZONE
TZID:UTC
BEGIN:STANDARD
TZOFFSETFROM:+0000
TZOFFSETTO:+0000
TZNAME:UTC
DTSTART:20210101T000000
END:STANDARD
END:VTIMEZONE
BEGIN:VEVENT
DTSTART;TZID=UTC:20211113T104500
DTEND;TZID=UTC:20211113T111500
DTSTAMP:20260420T145915
CREATED:20200615T094801Z
LAST-MODIFIED:20211101T141940Z
UID:16243-1636800300-1636802100@dancesyndrome.co.uk
SUMMARY:Zoom - Infant session
DESCRIPTION:The infant dance sign-up form should load below\, if it doesn’t please visit: https://bit.ly/DSinfants
URL:https://dancesyndrome.co.uk/session/zoom-infant-dance-session/2021-11-13/
LOCATION:Online via Zoom
CATEGORIES:Online dance sessions
ATTACH;FMTTYPE=image/jpeg:https://dancesyndrome.co.uk/wp-content/uploads/2019/06/DanceTeamOp.jpg
END:VEVENT
END:VCALENDAR