BEGIN:VCALENDAR
VERSION:2.0
PRODID:-//DanceSyndrome - ECPv6.0.3.1//NONSGML v1.0//EN
CALSCALE:GREGORIAN
METHOD:PUBLISH
X-ORIGINAL-URL:https://dancesyndrome.co.uk
X-WR-CALDESC:Events for DanceSyndrome
REFRESH-INTERVAL;VALUE=DURATION:PT1H
X-Robots-Tag:noindex
X-PUBLISHED-TTL:PT1H
BEGIN:VTIMEZONE
TZID:UTC
BEGIN:STANDARD
TZOFFSETFROM:+0000
TZOFFSETTO:+0000
TZNAME:UTC
DTSTART:20210101T000000
END:STANDARD
END:VTIMEZONE
BEGIN:VEVENT
DTSTART;TZID=UTC:20210721T190000
DTEND;TZID=UTC:20210721T200000
DTSTAMP:20260420T125929
CREATED:20210527T104835Z
LAST-MODIFIED:20211217T115653Z
UID:18366-1626894000-1626897600@dancesyndrome.co.uk
SUMMARY:EXTEND: Rave with Bex & Dave
DESCRIPTION:EXTEND: Rave with Bex & Dave\nEXTEND is a programme of inclusive technique classes exploring different styles of dance. These sessions are perfect for both beginners and those with experience. Each class will begin with technical exercises and then explore set choreography\, which will be developed over a number of weeks. \nFor a glimpse of these great Rave Dance workshops\, please check out our video on YouTube: \n\n  \nSee booking form below to book your place(s). If the form doesn’t load\, go to: http://bit.ly/DSRave
URL:https://dancesyndrome.co.uk/session/extend-inclusive-ballet-2/2021-07-21/
LOCATION:Plungington Community Centre\, Brook St\, Preston\, PR1 7NB
CATEGORIES:Dancing
ATTACH;FMTTYPE=image/jpeg:https://dancesyndrome.co.uk/wp-content/uploads/2020/09/RavewithDave.jpg
END:VEVENT
END:VCALENDAR