BEGIN:VCALENDAR
VERSION:2.0
PRODID:-//DanceSyndrome - ECPv6.0.3.1//NONSGML v1.0//EN
CALSCALE:GREGORIAN
METHOD:PUBLISH
X-ORIGINAL-URL:https://dancesyndrome.co.uk
X-WR-CALDESC:Events for DanceSyndrome
REFRESH-INTERVAL;VALUE=DURATION:PT1H
X-Robots-Tag:noindex
X-PUBLISHED-TTL:PT1H
BEGIN:VTIMEZONE
TZID:Europe/London
BEGIN:DAYLIGHT
TZOFFSETFROM:+0000
TZOFFSETTO:+0100
TZNAME:BST
DTSTART:20210328T010000
END:DAYLIGHT
BEGIN:STANDARD
TZOFFSETFROM:+0100
TZOFFSETTO:+0000
TZNAME:GMT
DTSTART:20211031T010000
END:STANDARD
END:VTIMEZONE
BEGIN:VEVENT
DTSTART;TZID=Europe/London:20210313T113000
DTEND;TZID=Europe/London:20210313T120000
DTSTAMP:20260420T173625
CREATED:20210129T095147Z
LAST-MODIFIED:20210309T104754Z
UID:17693-1615635000-1615636800@dancesyndrome.co.uk
SUMMARY:Beginners Dance on Zoom
DESCRIPTION:If you’d like to try an online dance class but are new to dancing\, these Beginner Dance sessions are ideal to you get started! \nLearn from scratch the ways of Street Dance\, Cheer Dance and Latin Dance – a great way to spend your Saturday morning! \n(If the booking form below doesn’t load please go to: http://bit.ly/BeginnersZoomDance
URL:https://dancesyndrome.co.uk/session/beginners-dance-on-zoom/2021-03-13/
LOCATION:Online via Zoom
CATEGORIES:Online dance sessions
ATTACH;FMTTYPE=image/jpeg:https://dancesyndrome.co.uk/wp-content/uploads/2020/02/DanceSyndrome_Moment.jpg
END:VEVENT
END:VCALENDAR